BEGIN:VCALENDAR
VERSION:2.0
PRODID:-//Pokerbook - ECPv6.7.0//NONSGML v1.0//EN
CALSCALE:GREGORIAN
METHOD:PUBLISH
X-ORIGINAL-URL:https://pokerbook.fr
X-WR-CALDESC:Évènements pour Pokerbook
REFRESH-INTERVAL;VALUE=DURATION:PT1H
X-Robots-Tag:noindex
X-PUBLISHED-TTL:PT1H
BEGIN:VTIMEZONE
TZID:Europe/Paris
BEGIN:DAYLIGHT
TZOFFSETFROM:+0100
TZOFFSETTO:+0200
TZNAME:CEST
DTSTART:20230326T010000
END:DAYLIGHT
BEGIN:STANDARD
TZOFFSETFROM:+0200
TZOFFSETTO:+0100
TZNAME:CET
DTSTART:20231029T010000
END:STANDARD
END:VTIMEZONE
BEGIN:VEVENT
DTSTART;VALUE=DATE:20230609
DTEND;VALUE=DATE:20230610
DTSTAMP:20260421T115758
CREATED:20230510T071748Z
LAST-MODIFIED:20230510T111609Z
UID:12009-1686268800-1686355199@pokerbook.fr
SUMMARY:Hocus & Pocus Minus
DESCRIPTION:Une BD dont tu es le petit héros\, illustrée par Gorobei et écrite par Johan Troïanowski
URL:https://pokerbook.fr/planning/hocus-pocus-minus/
CATEGORIES:Nos prochaines sorties
END:VEVENT
END:VCALENDAR