BEGIN:VCALENDAR
VERSION:2.0
PRODID:-//Pokerbook - ECPv6.7.0//NONSGML v1.0//EN
CALSCALE:GREGORIAN
METHOD:PUBLISH
X-WR-CALNAME:Pokerbook
X-ORIGINAL-URL:https://pokerbook.fr
X-WR-CALDESC:Évènements pour Pokerbook
REFRESH-INTERVAL;VALUE=DURATION:PT1H
X-Robots-Tag:noindex
X-PUBLISHED-TTL:PT1H
BEGIN:VTIMEZONE
TZID:Europe/Paris
BEGIN:DAYLIGHT
TZOFFSETFROM:+0100
TZOFFSETTO:+0200
TZNAME:CEST
DTSTART:20230326T010000
END:DAYLIGHT
BEGIN:STANDARD
TZOFFSETFROM:+0200
TZOFFSETTO:+0100
TZNAME:CET
DTSTART:20231029T010000
END:STANDARD
END:VTIMEZONE
BEGIN:VEVENT
DTSTART;TZID=Europe/Paris:20230902T080000
DTEND;TZID=Europe/Paris:20230903T170000
DTSTAMP:20260421T073334
CREATED:20230613T141725Z
LAST-MODIFIED:20230613T142457Z
UID:13506-1693641600-1693760400@pokerbook.fr
SUMMARY:Stivo en dédicace au festival Roch'fort en bulles
DESCRIPTION:Retrouvez Stivo en dédiace les 2 et 3 septembre au festival Roch’fort en bulles (Rochefort 17)
URL:https://pokerbook.fr/planning/stivo-en-dedicace-au-festival-rochfort-en-bulles/
LOCATION:Rochefort\, 73 rue Toufaire\, Rochefort\, 17300\, France
CATEGORIES:Dédicaces
END:VEVENT
END:VCALENDAR